Workbook

Sheet Főösszesítő
A1: Lajosmizse Város Polgármesteri
A2: 6050 Lajosmizse, Városház tér 1.
A3: Tel.:
A4: Fax:
A6: Adószám :
A8: Név:
A10: Cím: | C10: Kelt: 2017. év. 00. hó 00. nap
C11: Szám :.............
C12: KSH besorolás:.....................
C13: Teljesítés:2017 év...........hó...nap
A14: A munka leírása: | C14: Készítette:
A15: Lajosmizse, Óvodák felújítási munkái.
A16: 6050 Lajosmizse, Városház tér 1.
A18: 1.SZÉKHELY ÓVODA
A21: Költségvetés főösszesítő
A22: Megnevezés | C22: Anyagköltség | D22: Díjköltség
A23: 1. Építmény közvetlen költségei | C23: =Összesen!B23 -> 0 | D23: =Összesen!C23 -> 0
A24: 1.1 Közvetlen önköltség összesen | C24: =C23 -> 0 | D24: =D23 -> 0
A25: 2.1 ÁFA vetítési alap | C25: =ROUND(C24+D24,0) -> 0
A26: 2.2 Áfa | B26: 0.27 | C26: =ROUND(C25*B26,0) -> 0
A27: 3. A munka ára | C27: =ROUND(C25+C26,0) -> 0
B37: Aláírás

Sheet Összesen
A1: Munkanem megnevezése | B1: Anyag összege | C1: Díj összege
A2: 1. SZÉKHELY ÓVODA
A3: BELSŐ MUNKÁK
A4: 4 gyermekmosdó és hátsó öltöző-folyosó felújítás munkái | B4: ='4 gyermekmosdó és hátsó öltöző-'!H168 -> 0 | C4: ='4 gyermekmosdó és hátsó öltöző-'!I168 -> 0
A5: 2 gyermeköltöző és folyosójának burkolat felújítása | B5: ='2 gyermeköltöző és folyosójának'!H37 -> 0 | C5: ='2 gyermeköltöző és folyosójának'!I37 -> 0
A6: Villanyszerelés, lámpák és vezetékek cseréje (konyha blokk nélk.) | B6: ='Villanyszerelés, lámpák és veze'!H87 -> 0 | C6: ='Villanyszerelés, lámpák és veze'!I87 -> 0
A7: Csoportszobák, folyosók, öltözők festése, mázolása | B7: ='Csoportszobák, folyosók, öltöző'!H22 -> 0 | C7: ='Csoportszobák, folyosók, öltöző'!I22 -> 0
A8: 2 csoportszobában parkettacsere | B8: ='2 csoportszobában parkettacsere'!H31 -> 0 | C8: ='2 csoportszobában parkettacsere'!I31 -> 0
A9: 4 csoportszobában parketta csiszolása, lakkozása | B9: ='4 csoportszobában parketta csis'!H8 -> 0 | C9: ='4 csoportszobában parketta csis'!I7 -> 0
A10: KÜLSŐ MUNKÁK
A11: Új kerítés készítése | B11: ='Új kerítés készítése'!H42 -> 0 | C11: ='Új kerítés készítése'!I42 -> 0
A12: Udvari teraszok burkolása | B12: ='Udvari teraszok burkolása'!H48 -> 0 | C12: ='Udvari teraszok burkolása'!I48 -> 0
A13: Új terasz lefedések készítése | B13: ='Új terasz lefedések készítése'!H30 -> 0 | C13: ='Új terasz lefedések készítése'!I30 -> 0
A14: Régi medence gyermekmedencévé alakítása | B14: ='Régi medence gyermekmedencévé a'!H19 -> 0 | C14: ='Régi medence gyermekmedencévé a'!I19 -> 0
A15: Akadálymentesítés | B15: ='(1.) Akadálymentesítés'!H6 -> 0 | C15: ='(1.) Akadálymentesítés'!I6 -> 0
A16: Napkollektor felszerelése | B16: ='Napkollektor felszerelése'!H6 -> 0 | C16: ='Napkollektor felszerelése'!I6 -> 0
A17: SZÉKHELY ÓVODA KONYHA MUNKÁI
A18: Konyha építészeti, gépészeti, légtechnikai munkái | B18: ='Konyha építészeti, gépészeti, l'!H33 -> 0 | C18: ='Konyha építészeti, gépészeti, l'!I33 -> 0
A19: Konyhatechnológiai berendezések | B19: ='Konyhatechnológiai berendezések'!H30 -> 0 | C19: ='Konyhatechnológiai berendezések'!I30 -> 0
A20: Konyha villanyszerelési munkái | B20: ='Konyha villanyszerelési munkái'!H8 -> 0 | C20: ='Konyha villanyszerelési munkái'!I8 -> 0
A21: Konyha hálózatfejlesztési költsége mérőszekrénnyel | B21: ='Konyha hálózatfejlesztési költs'!H6 -> 0 | C21: ='Konyha hálózatfejlesztési költs'!I6 -> 0
A22: Konyhai hidegvíz mérés különválasztása | B22: ='Konyhai hidegvíz mérés különvál'!H6 -> 0 | C22: ='Konyhai hidegvíz mérés különvál'!I6 -> 0
A23: Összesen | B23: =SUM(B4:B22) -> 0 | C23: =SUM(C4:C22) -> 0
A24: Mind összesen | B24: =(B23 + C23) -> 0

Sheet 4 gyermekmosdó és hátsó öltöző-
B1: 4 gyermekmosdó és hátsó öltöző-folyosó felújítás munkái
A2: Ssz. | B2: Tételszám | C2: Tétel szövege | D2: Menny. | E2: Egység | F2: Anyag egységár | G2: Díj egységre | H2: Anyag összesen | I2: Díj összesen
C4: Lapburkolatok bontása, padlóburkolat bármely méretű kőagyag, mozaik vagy
A5: 1 | B5: 42-000-2.1 | C5: tört mozaik lapból | D5: 159.38 | E5: m2 | F5: 0 | G5: 0 | H5: =(D5*F5) -> 0 | I5: =(D5*G5) -> 0
C7: Lapburkolatok bontása, fal-, pillér- és oszlopburkolat, bármely méretű
A8: 2 | B8: 42-000-2.2 | C8: mozaik, kőagyag és csempe | D8: 111.95 | E8: m2 | F8: 0 | G8: 0 | H8: =(D8*F8) -> 0 | I8: =(D8*G8) -> 0
C10: Lábazatburkolat bontása, egyenes egysoros vagy lépcsős kivitelben 0,50 m magasságig
A11: 3 | B11: 42-000-135 | C11: 10x10 - 40x40 cm lapméretig | D11: 48.65 | E11: m | F11: 0 | G11: 0 | H11: =(D11*F11) -> 0 | I11: =(D11*G11) -> 0
C13: Beton aljzatok, bontása 10 cm vastagság felett,
A14: 4 | B14: 31-000-14.2 | C14: kavicsbetonból | D14: 13 | E14: m3 | F14: 0 | G14: 0 | H14: =(D14*F14) -> 0 | I14: =(D14*G14) -> 0
C16: Letaposott-szennyezett agyag, illetve földpadló, feltöltés bontása, kihordása depóniába
A17: 5 | B17: 21-003-10.1 | C17: száraz, földnedves | D17: 15 | E17: m3 | F17: 0 | G17: 0 | H17: =(D17*F17) -> 0 | I17: =(D17*G17) -> 0
C19: Építési törmelék konténeres elszállítása, lerakása, lerakóhelyi díjjal,
A20: 6 | B20: 21-011-11.3 | C20: 5,0 m3-es konténerbe | D20: 9 | E20: db | F20: 0 | G20: 0 | H20: =(D20*F20) -> 0 | I20: =(D20*G20) -> 0
C22: Munkahelyi depóniából építési törmelék konténerbe rakása, kézi erővel, önálló munka esetén elszámolva,
A23: 7 | B23: 21-011-12 | C23: konténer szállítás nélkül | D23: 45 | E23: m3 | F23: 0 | G23: 0 | H23: =(D23*F23) -> 0 | I23: =(D23*G23) -> 0
C25: Fa nyílászáró szerkezetek bontása, ajtó, ablak vagy kapu,
A26: 8 | B26: 44-000-1.1 | C26: 2,00 m2-ig | D26: 9.15 | E26: m2 | F26: 0 | G26: 0 | H26: =(D26*F26) -> 0 | I26: =(D26*G26) -> 0
C28: Fa nyílászáró szerkezetek bontása, ajtó, ablak vagy kapu,
A29: 9 | B29: 44-000-1.2 | C29: 2,01-4,00 m2 között | D29: 2.1 | E29: m2 | F29: 0 | G29: 0 | H29: =(D29*F29) -> 0 | I29: =(D29*G29) -> 0
C31: Szerelőbeton készítése, 6 cm vastagságban
A32: 10 | B32: 23-003-11.1-0112210 | C32: C12/15 - X0b(H) képlékeny kavicsbeton keverék CEM 32,5 pc. D_max = 16 mm, m = 6,5 finomsági modulussal | D32: 5 | E32: m3 | F32: 0 | G32: 0 | H32: =(D32*F32) -> 0 | I32: =(D32*G32) -> 0
C34: Vakolat leverése oldalfalról vagy mennyezetről 1,5 cm vastagságig
A35: 11 | B35: 36-000-1.1.1 | C35: falazó, cementes mészhabarcs | D35: 86 | E35: m2 | F35: 0 | G35: 0 | H35: =(D35*F35) -> 0 | I35: =(D35*G35) -> 0
C37: Sima oldalfalvakolat készítése kézi felhordással, belső, vakoló cementes mészhabarccsal, téglafelületen, 1,5 cm vastagságban
A38: 12 | B38: 36-001-1.1.1-0550040 | C38: Hvb8-mc, belső, vakoló cementes mészhabarccsal és Hs60-cm, felületképző (simító), meszes cementhabarccsal | D38: 190 | E38: m2 | F38: 0 | G38: 0 | H38: =(D38*F38) -> 0 | I38: =(D38*G38) -> 0
C40: Vakolatjavítás mennyezeten, sík vasbeton téglabetétes, téglatálcás födémen, íves boltozaton vagy építőelemen a meglazult, sérült vakolat leverésével, hiánypótlás 5% alatt
A41: 13 | B41: 36-090-1.3.1.1-0550040 | C41: Hvb8-mc, beltéri, vakoló cementes mészhabarcs mészpéppel | D41: 15 | E41: m2 | F41: 0 | G41: 0 | H41: =(D41*F41) -> 0 | I41: =(D41*G41) -> 0
C43: Vakolatok pótlása, keskenyvakolatok pótlása oldalfalon,
A44: 14 | B44: 36-090-2.1.1 | C44: 10 cm szélességig | D44: 50 | E44: m | F44: 0 | G44: 0 | H44: =(D44*F44) -> 0 | I44: =(D44*G44) -> 0
C46: Vakolatok pótlása, keskenyvakolatok pótlása mennyezeten,
A47: 15 | B47: 36-090-2.2.1 | C47: 10 cm szélességig | D47: 40 | E47: m | F47: 0 | G47: 0 | H47: =(D47*F47) -> 0 | I47: =(D47*G47) -> 0
C49: Talajnedvesség elleni szigetelés; Bitumenes lemez szigetelés aljzatának kellősítése, egy rétegben, vízszintes felületen,
A50: 16 | B50: 48-002-1.1.1.1.2-0096003 | C50: vízbázisú bitumenemulzióval | D50: 74.4 | E50: m2 | F50: 0 | G50: 0 | H50: =(D50*F50) -> 0 | I50: =(D50*G50) -> 0
C52: Talajnedvesség elleni szigetelés; Padlószigetelés, két rétegben, minimum 3,0 mm vastag oxidált bitumenes lemezzel, aljzathoz foltonként vagy sávokban olvasztásos ragasztással, átlapolásoknál és egymáshoz teljes felületű hegesztéssel fektetve
A53: 17 | B53: 48-002-0518504 | C53: üvegfátyol hordozórétegű, 3 mm névleges vastagságú oxidált bitumenes lemez, talkum | D53: 74.4 | E53: m2 | F53: 0 | G53: 0 | H53: =(D53*F53) -> 0 | I53: =(D53*G53) -> 0
C55: Szigetelés védőrétegei, vízszintes felületen, 10 cm laza átlapolással fektetve, egy réteg minimum 0,09 mm vastag polietilén fólia
A56: 18 | B56: 48-003-0523550 | C56: polietilén fólia, 0,09 mm vastagságú, 2 m szélességű | D56: 74.4 | E56: m2 | F56: 0 | G56: 0 | H56: =(D56*F56) -> 0 | I56: =(D56*G56) -> 0
C58: Padló hőszigetelő anyag elhelyezése, vízszintes felületen, aljzatbeton alá, úsztató rétegként, expandált polisztirolhab lemezzel
A59: 19 | B59: 48-007-41.1.1.1.2-0090756 | C59: polisztirolhab lemez 80 mm, 1000*500 mm lemezméret, egyenes él | D59: 74.4 | E59: m2 | F59: 0 | G59: 0 | H59: =(D59*F59) -> 0 | I59: =(D59*G59) -> 0
C61: Padló peremszigetelés elhelyezése úsztatott aljzatbeton esetén, expandált polisztirolhab szigetelő szalaggal
A62: 20 | B62: 48-007-41.2.2-0215105 | C62: AT-P peremszigetelő Sáv, 5 mm vtg. | D62: 147.4 | E62: m | F62: 0 | G62: 0 | H62: =(D62*F62) -> 0 | I62: =(D62*G62) -> 0
C64: Beton aljzat készítése helyszínen kevert betonból, kisgépes, betonszivattyú továbbítással és kézi bedolgozással, merev aljzatra, tartószerkezetre léccel lehúzva, kavicsbetonból, C 8/10 - C 16/20 kissé képlékeny konzisztenciájú betonból, 6 cm vastagságig
A65: 21 | B65: 31-030-11.2.1.1-0121110 | C65: C16/20 - X0b(H) kissé képlékeny kavicsbeton keverék CEM 42,5 pc. D_max = 16 mm, m = 6,4 finomsági modulussal | D65: 6 | E65: m3 | F65: 0 | G65: 0 | H65: =(D65*F65) -> 0 | I65: =(D65*G65) -> 0
C67: Fal-, pillér és oszlopburkolat hordozószerkezetének felületelőkészítése beltérben, tégla, beton és vakolt alapfelületen,
A68: 22 | B68: 42-011-1.1.1.1-0151721 | C68: felületelőkészítő alapozó és tapadóhíd felhordása egy rétegben | D68: 147 | E68: m2 | F68: 0 | G68: 0 | H68: =(D68*F68) -> 0 | I68: =(D68*G68) -> 0
C70: Padlóburkolat hordozószerkezetének felületelőkészítése beltérben, beton alapfelületen
A71: 23 | B71: 42-011-2.1.1.1-0151721 | C71: felületelőkészítő alapozó és tapadóhíd felhordása egy rétegben | D71: 165 | E71: m2 | F71: 0 | G71: 0 | H71: =(D71*F71) -> 0 | I71: =(D71*G71) -> 0
C73: Kontaktesztrich készítése kézi feldolgozással, cementbázisú esztrichből max. 3 cm vastagságban
A74: 24 | B74: 31-032-2.1.2.1-0215094 | C74: "felület kiegyenlítés bontott burkolat alatt" | D74: 84 | E74: m2 | F74: 0 | G74: 0 | H74: =(D74*F74) -> 0 | I74: =(D74*G74) -> 0
C76: Fal-, pillér és oszlopburkolat hordozószerkezetének felületelőkészítése beltérben, tégla, beton és vakolt alapfelületen, kenhető víz- és páraszigetelés felhordása egy rétegben, hajlaterősítő szalag elhelyezésével
A77: 25 | B77: 42-011-1.1.2.2-0314002 | C77: folyékonyfólia | D77: 147 | E77: m2 | F77: 0 | G77: 0 | H77: =(D77*F77) -> 0 | I77: =(D77*G77) -> 0
C79: Padlóburkolat hordozószerkezetének felületelőkészítése beltérben, beton alapfelületen kenhető víz- és páraszigetelés felhordása egy rétegben, hajlaterősítő szalag elhelyezésével
A80: 26 | B80: 42-011-2.1.1.2-0314002 | C80: folyékonyfólia | D80: 66.55 | E80: m2 | F80: 0 | G80: 0 | H80: =(D80*F80) -> 0 | I80: =(D80*G80) -> 0
C82: Fal-, pillér-, oszlopburkolat készítése beltérben, kenhető szigetelésre, mázas kerámiával, kötésben vagy hálósan, 3-5 mm vtg. ragasztóba rakva, 1-10 mm fugaszélességgel, 10x10 - 20x20 cm közötti lapmérettel
A83: 27 | B83: 42-012-1.1.3.1.1.2-0212004 | C83: FLEX/Flex ragasztó,kül- és beltérbe, fagyálló, padlófűtéshez is, flex fugázó, fehér | D83: 147 | E83: m2 | F83: 0 | G83: 0 | H83: =(D83*F83) -> 0 | I83: =(D83*G83) -> 0
C85: Padlóburkolat készítése, beltérben, kenhető szigetelésre, mázas kerámiával, kötésben vagy hálósan, 3-5 mm vtg. ragasztóba rakva, 1-10 mm fugaszélességgel, 10x10 - 20x20 cm közötti lapmérettel
A86: 28 | B86: 42-022-1.1.3.1.1.2-0212004 | C86: FLEX/Flex ragasztó, kül- és beltérbe, fagyálló, padlófűtéshez is, flex fugázó, fehér | D86: 165 | E86: m2 | F86: 0 | G86: 0 | H86: =(D86*F86) -> 0 | I86: =(D86*G86) -> 0
C88: Lábazatburkolat készítése, beltérben, mázas kerámiával, egyenes, egysoros kivitelben, 3-5 mm ragasztóba rakva, 1-10 mm fugaszélességgel, 10 cm magasságig, 10x20 - 20×20 cm közötti lapmérettel
A89: 29 | B89: 42-022-2.1.1.1.2-0212002 | C89: ragasztó,fagyálló, nagy szilárdságú fugázó fehér | D89: 48.65 | E89: m | F89: 0 | G89: 0 | H89: =(D89*F89) -> 0 | I89: =(D89*G89) -> 0
C91: Beltéri nyílászárók elhelyezése előre kihagyott falnyílásba, hőszigetelt, fokozott légzárású ajtó, tömítés nélkül (szerelvényezve, finom beállítással), 6,01-10,00 m kerület között Egyszárnyú ajtó
A92: 30 | B92: 44-011-1.1.1-0166521 | C92: m: 75 x 210 cm | D92: 1 | E92: db | F92: 0 | G92: 0 | H92: =(D92*F92) -> 0 | I92: =(D92*G92) -> 0
C94: Beltéri nyílászárók elhelyezése előre kihagyott falnyílásba, hőszigetelt, fokozott légzárású ajtó, tömítés nélkül (szerelvényezve, finom beállítással), 6,01-10,00 m kerület között Egyszárnyú ajtó
A95: 31 | B95: 44-011-1.1.1-0166521 | C95: m: 90 x 210 cm | D95: 4 | E95: db | F95: 0 | G95: 0 | H95: =(D95*F95) -> 0 | I95: =(D95*G95) -> 0
C97: Beltéri nyílászárók elhelyezése előre kihagyott falnyílásba, hőszigetelt, fokozott légzárású ajtó, tömítés nélkül (szerelvényezve, finom beállítással), 6,01-10,00 m kerület között Egyszárnyú ajtó
A98: 32 | B98: 44-011-1.1.1-0166521 | C98: m: 100 x 210 cm | D98: 1 | E98: db | F98: 0 | G98: 0 | H98: =(D98*F98) -> 0 | I98: =(D98*G98) -> 0
C100: Válaszfal rendszer moduláris elemei, elválasztófal 120 cm szélességben (oldalfal)
A101: 33 | B101: 44-030-11.1-0122052 | C101: WC elválasztófal 120 cm, 18 mm vastag 2 oldalt laminált bútorlapból, nagy igénybevételű helyiségekhez elválasztó függönnyel és sínnel | D101: 20 | E101: db | F101: 0 | G101: 0 | H101: =(D101*F101) -> 0 | I101: =(D101*G101) -> 0
C103: Falsimítás műanyag kötőanyagú készítménnyel, 1,5 mm vastagságig, felülettisztítással, portalanítással, sarkok, élek legömbölyítésével, csiszolással, meszes glettel, vagy azzal egyenértékű,
A104: 34 | B104: 47-151-001-001-34-14110 | C104: vakolt felületen, javítás a felület maximum 20%-ban | D104: 407.4 | E104: m2 | F104: 0 | G104: 0 | H104: =(D104*F104) -> 0 | I104: =(D104*G104) -> 0
C106: Festés műanyagbázisú diszperziós beltéri falfestékkel, két rétegben, a felület megtisztításával, kaparással, dörzsöléssel, lemosással, tapaszolással, vakolt felületen, típusú, vagy azzal egyenértékű,
A107: 35 | B107: M-47-141-001-001-13-61120 | C107: fehér színben | D107: 407.4 | E107: m2 | F107: 0 | G107: 0 | H107: =(D107*F107) -> 0 | I107: =(D107*G107) -> 0
C109: Acélfelületek közbenső festése cső és regisztercső felületén (NÁ 80-ig), függesztőn és tartóvason, sormosdó állványzaton műgyanta kötőanyagú, oldószeres festékkel
A110: 36 | B110: 47-021-21.4.1-0130821 | C110: alapozófesték, fehér | D110: 80 | E110: m | F110: 0 | G110: 0 | H110: =(D110*F110) -> 0 | I110: =(D110*G110) -> 0
C112: Acélfelületek átvonó festése cső és regisztercső felületén (NÁ 80-ig), függesztőn és tartóvason, sormosdó állványzaton műgyanta kötőanyagú, oldószeres festékkel
A113: 37 | B113: 47-021-31.4.1-0130431 | C113: selyemfényű zománcfesték, fehér 100, | D113: 80 | E113: m | F113: 0 | G113: 0 | H113: =(D113*F113) -> 0 | I113: =(D113*G113) -> 0
A115: 38 | B115: K-tétel | C115: Meglévő épületszerkezetek védelme felújítás ideje alatt | D115: 1 | E115: klt | F115: 0 | G115: 0 | H115: =(D115*F115) -> 0 | I115: =(D115*G115) -> 0
C117: ÉPÜLETGÉPÉSZETI MUNKÁK _____________________________________________________
A118: 39 | B118: K-tétel | C118: Csővezetékek bontása | D118: 200 | E118: m | F118: 0 | G118: 0 | H118: =(D118*F118) -> 0 | I118: =(D118*G118) -> 0
A120: 40 | B120: K-tétel | C120: Berendezések bontása | D120: 60 | E120: db | F120: 0 | G120: 0 | H120: =(D120*F120) -> 0 | I120: =(D120*G120) -> 0
C122: Átm. 40 ötrétegű műanyag csővezeték szerelése, szigetelve, bilincsben vezetve
A123: 41 | B123: K-tétel | C123: falonkívül, préskötéses idomokkal | D123: 46 | E123: m | F123: 0 | G123: 0 | H123: =(D123*F123) -> 0 | I123: =(D123*G123) -> 0
C125: Átm. 32 ötrétegű műanyag csővezeték szerelése, szigetelve, bilincsben vezetve
A126: 42 | B126: K-tétel | C126: falonkívül, préskötéses idomokkal | D126: 48 | E126: m | F126: 0 | G126: 0 | H126: =(D126*F126) -> 0 | I126: =(D126*G126) -> 0
C128: Átm. 26 ötrétegű műanyag csővezeték szerelése, szigetelve, bilincsben vezetve
A129: 43 | B129: K-tétel | C129: falonkívül, préskötéses idomokkal | D129: 60 | E129: m | F129: 0 | G129: 0 | H129: =(D129*F129) -> 0 | I129: =(D129*G129) -> 0
C131: Átm. 20*2.0 ötrétegű műanyag csővezeték szerelése, szigetelve, falhoronyban
A132: 44 | B132: K-tétel | C132: vezetve, préskötéses idomokkal, véséssel | D132: 260 | E132: m | F132: 0 | G132: 0 | H132: =(D132*F132) -> 0 | I132: =(D132*G132) -> 0
A134: 45 | B134: K-tétel | C134: Átm. 110 PVC-KG lefolyóvezeték szerelése | D134: 58 | E134: m | F134: 0 | G134: 0 | H134: =(D134*F134) -> 0 | I134: =(D134*G134) -> 0
A136: 46 | B136: K-tétel | C136: Átm. 160 PVC-KG lefolyóvezeték szerelése, földmunkával | D136: 52 | E136: m | F136: 0 | G136: 0 | H136: =(D136*F136) -> 0 | I136: =(D136*G136) -> 0
A138: 47 | B138: K-tétel | C138: Átm. 50 PVC lefolyóvezeték szerelése, földmunkával | D138: 68 | E138: m | F138: 0 | G138: 0 | H138: =(D138*F138) -> 0 | I138: =(D138*G138) -> 0
C140: 50cm Alföldi típusó mosdó szerelése, MOFÉM Egykaros csapteleppel,
A141: 48 | B141: K-tétel | C141: tartalékelzárókkal,szifonnal, (meglévő berendezések visszahelyezése) | D141: 26 | E141: db | F141: 0 | G141: 0 | H141: =(D141*F141) -> 0 | I141: =(D141*G141) -> 0
A143: 49 | B143: K-tétel | C143: WC berendezés szerelése, Alföldi gyermek alsós, 9/6liter alsós tartállyal (meglévő berendezések visszahelyezése) | D143: 22 | E143: db | F143: 0 | G143: 0 | H143: =(D143*F143) -> 0 | I143: =(D143*G143) -> 0
A145: 50 | B145: K-tétel | C145: Zuhanyzó szerelése, 80*80cm akril zuhanytáclácal, Mofém fali csapteleppel | D145: 2 | E145: db | F145: 0 | G145: 0 | H145: =(D145*F145) -> 0 | I145: =(D145*G145) -> 0
A147: 51 | B147: K-tétel | C147: Falikút szerelése hideg-melegvízre | D147: 3 | E147: db | F147: 0 | G147: 0 | H147: =(D147*F147) -> 0 | I147: =(D147*G147) -> 0
A149: 52 | B149: K-tétel | C149: Folyékony szappanadagoló Tork | D149: 26 | E149: db | F149: 0 | G149: 0 | H149: =(D149*F149) -> 0 | I149: =(D149*G149) -> 0
A151: 53 | B151: K-tétel | C151: HL 510 Npr padlóösszefolyó beépítése | D151: 4 | E151: db | F151: 0 | G151: 0 | H151: =(D151*F151) -> 0 | I151: =(D151*G151) -> 0
A153: 54 | B153: K-tétel | C153: Felnőtt WC berendezése szerelése, kompletten | D153: 3 | E153: db | F153: 0 | G153: 0 | H153: =(D153*F153) -> 0 | I153: =(D153*G153) -> 0
A155: 55 | B155: K-tétel | C155: Falitükör felszerelése | D155: 10 | E155: db | F155: 0 | G155: 0 | H155: =(D155*F155) -> 0 | I155: =(D155*G155) -> 0
...

Sheet 2 gyermeköltöző és folyosójának
B1: 2 gyermeköltöző és folyosójának burkolat felújítása
A2: Ssz. | B2: Tételszám | C2: Tétel szövege | D2: Menny. | E2: Egység | F2: Anyag egységár | G2: Díj egységre | H2: Anyag összesen | I2: Díj összesen
C4: Lapburkolatok bontása, padlóburkolat bármely méretű kőagyag, mozaik vagy
A5: 1 | B5: 42-000-2.1 | C5: tört mozaik lapból | D5: 146.47 | E5: m2 | F5: 0 | G5: 0 | H5: =(D5*F5) -> 0 | I5: =(D5*G5) -> 0
C7: Lapburkolatok bontása, lábazatburkolat 0,50 m magasságig, egyenes egysoros vagy lépcsős kivitelben,
A8: 2 | B8: 42-000-2.3 | C8: 10x10 - 20x20 cm-es lapméretig | D8: 150 | E8: m | F8: 0 | G8: 0 | H8: =(D8*F8) -> 0 | I8: =(D8*G8) -> 0
C10: Vakolatok pótlása, keskenyvakolatok pótlása oldalfalon,
A11: 3 | B11: 36-090-2.1.1 | C11: 10 cm szélességig | D11: 150 | E11: m | F11: 0 | G11: 0 | H11: =(D11*F11) -> 0 | I11: =(D11*G11) -> 0
C13: Építési törmelék konténeres elszállítása, lerakása, lerakóhelyi díjjal,
A14: 4 | B14: 21-011-11.3 | C14: 5,0 m3-es konténerbe | D14: 2 | E14: db | F14: 0 | G14: 0 | H14: =(D14*F14) -> 0 | I14: =(D14*G14) -> 0
C16: Munkahelyi depóniából építési törmelék konténerbe rakása, kézi erővel, önálló munka esetén elszámolva,
A17: 5 | B17: 21-011-12 | C17: konténer szállítás nélkül | D17: 10 | E17: m3 | F17: 0 | G17: 0 | H17: =(D17*F17) -> 0 | I17: =(D17*G17) -> 0
C19: Felület-előkészítés meglévő cementkötésű aljzat tisztítása, laza vagy szennyezett felületrészek eltávolítása,
A20: 6 | B20: 31-032-1.1.2 | C20: 3 mm vastagságig, betoncsiszolóval | D20: 146.47 | E20: m2 | F20: 0 | G20: 0 | H20: =(D20*F20) -> 0 | I20: =(D20*G20) -> 0
C22: Felület-előkészítés alapfelület előkészítése (kellősítése) műanyagbázisú alapozóval, hengerrel felhordva, 1 rétegben
A23: 7 | B23: 31-032-1.3.1-0415916 | C23: Mélyalapozó | D23: 146.47 | E23: m2 | F23: 0 | G23: 0 | H23: =(D23*F23) -> 0 | I23: =(D23*G23) -> 0
C25: Kontaktesztrich készítése kézi feldolgozással, cementbázisú esztrichből max. 3 cm vastagságban
A26: 8 | B26: 31-032-2.1.2.1-0215094 | C26: "felület kiegyenlítés bontott burkolat alatt" | D26: 146.47 | E26: m2 | F26: 0 | G26: 0 | H26: =(D26*F26) -> 0 | I26: =(D26*G26) -> 0
C28: Padlóburkolat hordozószerkezetének felületelőkészítése beltérben, beton alapfelületen
A29: 9 | B29: 42-011-2.1.1.1-0151721 | C29: felületelőkészítő alapozó és tapadóhíd felhordása egy rétegben | D29: 146.47 | E29: m2 | F29: 0 | G29: 0 | H29: =(D29*F29) -> 0 | I29: =(D29*G29) -> 0
C31: Padlóburkolat készítése, beltérben, tégla, beton, vakolt alapfelületen, mázas kerámiával, kötésben vagy hálósan, 3-5 mm vtg. ragasztóba rakva, 1-10 mm fugaszélességgel, 10x10 - 20x20 cm közötti lapmérettel
A32: 10 | B32: 42-022-1.1.1.1.1.2 | C32: cementkötésű ragasztóhabarcs, szürke, Flex fugázó, fehér | D32: 146.47 | E32: m2 | F32: 0 | G32: 0 | H32: =(D32*F32) -> 0 | I32: =(D32*G32) -> 0
C34: Lábazatburkolat készítése, beltérben, mázas kerámiával, egyenes, egysoros kivitelben, 3-5 mm ragasztóba rakva, 1-10 mm fugaszélességgel, 10 cm magasságig, 10x20 - 20×20 cm közötti lapmérettel
A35: 11 | B35: 42-022-2.1.1.1.2-0212002 | C35: ragasztó, fagyálló fugázó fehér | D35: 150 | E35: m | F35: 0 | G35: 0 | H35: =(D35*F35) -> 0 | I35: =(D35*G35) -> 0
C37: Munkanem összesen: | H37: =SUM(H5:H35) -> 0 | I37: =SUM(I5:I35) -> 0

Sheet Villanyszerelés, lámpák és veze
B1: Villanyszerelés, lámpák és vezetékek cseréje (konyha blokk nélk.)
A2: Ssz. | B2: Tételszám | C2: Tétel szövege | D2: Menny. | E2: Egység | F2: Anyag egységár | G2: Díj egységre | H2: Anyag összesen | I2: Díj összesen
A4: 1 | B4: K-tétel | C4: STM LUX 2 x 58 w - os fénycső armatúra szerelés /INVERTERES/ | D4: 8 | E4: db | F4: 0 | G4: 0 | H4: =(D4*F4) -> 0 | I4: =(D4*G4) -> 0
A6: 2 | B6: K-tétel | C6: STM LUX 2 x 58 w - os fénycső armatúra szerelés | D6: 40 | E6: db | F6: 0 | G6: 0 | H6: =(D6*F6) -> 0 | I6: =(D6*G6) -> 0
A8: 3 | B8: K-tétel | C8: STT 2x58 w - os tükrös armatúra szerelés | D8: 2 | E8: db | F8: 0 | G8: 0 | H8: =(D8*F8) -> 0 | I8: =(D8*G8) -> 0
A10: 4 | B10: K-tétel | C10: Fénycső szerelése két foglalattal, SIMOTRADE 58 W 830, 840 3 sávos | D10: 100 | E10: db | F10: 0 | G10: 0 | H10: =(D10*F10) -> 0 | I10: =(D10*G10) -> 0
A12: 5 | B12: K-tétel | C12: Kijárat mutató /ECOGLASSE LEDES / | D12: 16 | E12: db | F12: 0 | G12: 0 | H12: =(D12*F12) -> 0 | I12: =(D12*G12) -> 0
A14: 6 | B14: K-tétel | C14: Kijárat mutató /ECOGLASSE LEDES /+ FÜGGESZTÉK | D14: 3 | E14: db | F14: 0 | G14: 0 | H14: =(D14*F14) -> 0 | I14: =(D14*G14) -> 0
A16: 7 | B16: K-tétel | C16: V STAS 2x26 w-os mélysugárzó szerelés üveg lappal /INVERTERES / | D16: 8 | E16: db | F16: 0 | G16: 0 | H16: =(D16*F16) -> 0 | I16: =(D16*G16) -> 0
A18: 8 | B18: K-tétel | C18: V STAS 2x26 w-os mélysugárzó szerelés üveg lappal | D18: 34 | E18: db | F18: 0 | G18: 0 | H18: =(D18*F18) -> 0 | I18: =(D18*G18) -> 0
A20: 9 | B20: K-tétel | C20: 26 w - os compact fénycső szerelés | D20: 92 | E20: db | F20: 0 | G20: 0 | H20: =(D20*F20) -> 0 | I20: =(D20*G20) -> 0
C22: SIMOVILL gyártmányú műanyagbúrás, formatervezett kapcsolóval ellátott, bútorvilágításra is alkalmas fénycsöves lámpatest, előre elkészített tartószerkezetre
A23: 10 | B23: K-tétel | C23: szerelve SB-118 1x18 W | D23: 15 | E23: db | F23: 0 | G23: 0 | H23: =(D23*F23) -> 0 | I23: =(D23*G23) -> 0
A25: 11 | B25: K-tétel | C25: UFO jellgű lámpa szerelés + LEDES IZZÓ | D25: 5 | E25: db | F25: 0 | G25: 0 | H25: =(D25*F25) -> 0 | I25: =(D25*G25) -> 0
A27: 12 | B27: K-tétel | C27: STELO tip. udvari lámpa szerelés + ledes izzó | D27: 2 | E27: db | F27: 0 | G27: 0 | H27: =(D27*F27) -> 0 | I27: =(D27*G27) -> 0
A29: 13 | B29: K-tétel | C29: Mozgás érzékelő egység felszerelése lámpákhoz. | D29: 2 | E29: db | F29: 0 | G29: 0 | H29: =(D29*F29) -> 0 | I29: =(D29*G29) -> 0
C31: MÜ III. jelű műanyag védőcső szerelése horonyba, elágazó
A32: 14 | B32: K-tétel | C32: dobozokkal, horonyvéséssel 16,0 mm átm. | D32: 520 | E32: m | F32: 0 | G32: 0 | H32: =(D32*F32) -> 0 | I32: =(D32*G32) -> 0
C34: MÜ III. jelű műanyag védőcső szerelése horonyba, elágazó
A35: 15 | B35: K-tétel | C35: dobozokkal, horonyvéséssel 23,0 mm átm. | D35: 280 | E35: m | F35: 0 | G35: 0 | H35: =(D35*F35) -> 0 | I35: =(D35*G35) -> 0
A37: 16 | B37: K-tétel | C37: Fészekvésés dobozozok részére téglafalban 65 mm | D37: 120 | E37: db | F37: 0 | G37: 0 | H37: =(D37*F37) -> 0 | I37: =(D37*G37) -> 0
A39: 17 | B39: K-tétel | C39: Fészekvésés dobozok részére téglafalban 80 mm | D39: 95 | E39: db | F39: 0 | G39: 0 | H39: =(D39*F39) -> 0 | I39: =(D39*G39) -> 0
A41: 18 | B41: K-tétel | C41: Fészekvésés téglafalban 100x100 mm | D41: 45 | E41: db | F41: 0 | G41: 0 | H41: =(D41*F41) -> 0 | I41: =(D41*G41) -> 0
A43: 19 | B43: K-tétel | C43: MMcu falvezeték szerelés | D43: 180 | E43: m | F43: 0 | G43: 0 | H43: =(D43*F43) -> 0 | I43: =(D43*G43) -> 0
C45: Kábelszerű vezeték elhelyezése 1-12 erű rézvezetővel, elágazó dobozokkal és kötésekkel, szigetelés ellenállás méréssel, előre beépített tartószerkezetre EURO-KÁBEL NYM-J
A46: 20 | B46: K-tétel | C46: 300/500 V (MBcu) PVC köpenyes rézvezeték 3 x 1,5 mm2 | D46: 300 | E46: m | F46: 0 | G46: 0 | H46: =(D46*F46) -> 0 | I46: =(D46*G46) -> 0
C48: Kábelszerű vezeték elhelyezése 1-12 erű rézvezetővel, elágazó dobozokkal és kötésekkel, szigetelés ellenállás méréssel, előre beépített tartószerkezetre EURO-KÁBEL NYM-J
A49: 21 | B49: K-tétel | C49: 300/500 V (MBcu) PVC köpenyes rézvezeték 5 x 1,5 mm2 | D49: 240 | E49: m | F49: 0 | G49: 0 | H49: =(D49*F49) -> 0 | I49: =(D49*G49) -> 0
C51: Szigetelt vezeték elhelyezése védőcsőbe húzva, vagy vezetékcsatornába fektetve, rézvezetővel, leágazó kötésekkel, szigetelés ellenállás méréssel VLG HO7V-U
A52: 22 | B52: K-tétel | C52: 450/750 V (Mcu) tömör rézvezeték PVC szigeteléssel 1.50 mm2 | D52: 2000 | E52: m | F52: 0 | G52: 0 | H52: =(D52*F52) -> 0 | I52: =(D52*G52) -> 0
C54: Szigetelt vezeték elhelyezése védőcsőbe húzva, vagy vezetékcsatornába fektetve, rézvezetővel, leágazó kötésekkel, szigetelés ellenállás méréssel EURO-KÁBEL HO7V-K 450/750 V (Mkh) f,k,z/s sodrott rézvezeték PVC
A55: 23 | B55: K-tétel | C55: szigeteléssel 2,5 mm2 | D55: 550 | E55: m | F55: 0 | G55: 0 | H55: =(D55*F55) -> 0 | I55: =(D55*G55) -> 0
C57: LEGRAND süllyesztetten elhelyezett szerelvényhez keret felszerelése (szerelési ideje a kapcsoló, aljzat szerelési idejében szerepel) VALENA típusú fehér keret fehér díszítő
A58: 24 | B58: K-tétel | C58: csíkkal egyes keret | D58: 112 | E58: db | F58: 0 | G58: 0 | H58: =(D58*F58) -> 0 | I58: =(D58*G58) -> 0
C60: LEGRAND kapcsoló szerelése süllyesztetten, fészekvéséssel, doboz elhelyezéssel, bekötéssel, keret nélkül 10 A, 250 V,
A61: 25 | B61: K-tétel | C61: VALENA típusú mechanizmus fedéllel fehér színű kétpólusú | D61: 20 | E61: db | F61: 0 | G61: 0 | H61: =(D61*F61) -> 0 | I61: =(D61*G61) -> 0
C63: LEGRAND 2P+F földelt csatlakozóaljzat szerelése süllyesztetten, fészekvéséssel, doboz elhelyezéssel, bekötéssel, keret nélkül, 16 A, 250 V, VALENA típusú
A64: 26 | B64: K-tétel | C64: mechanizmus fedéllel fehér színű 2p+F gyerekvédelemmel | D64: 56 | E64: db | F64: 0 | G64: 0 | H64: =(D64*F64) -> 0 | I64: =(D64*G64) -> 0
A66: 27 | B66: K-tétel | C66: LEGRAND kapcsoló szerelése süllyesztetten, fészekvéséssel, doboz elhelyezéssel, bekötéssel, keret nélkül 10 A, 250 V, VALENA típusú mechanizmus fedéllel fehér színű váltó | D66: 30 | E66: db | F66: 0 | G66: 0 | H66: =(D66*F66) -> 0 | I66: =(D66*G66) -> 0
C68: LEGRAND telekommunikációs csatlakozóaljzat szerelése süllyesztetten, fészekvéséssel, doboz elhelyezéssel, bekötéssel, keret nélkül, VALENA típusú mechanizmus fedéllel
A69: 28 | B69: K-tétel | C69: fehér színű 2xRJ11 | D69: 8 | E69: db | F69: 0 | G69: 0 | H69: =(D69*F69) -> 0 | I69: =(D69*G69) -> 0
C71: LEGRAND TV-RD-SAT antenna csatlakozóaljzat szerelése süllyesztetten, fészekvéséssel, doboz elhelyezéssel, bekötéssel, keret nélkül, VALENA típusú mechanizmus fedéllel
A72: 29 | B72: K-tétel | C72: elefántcsont színű csillagpontos | D72: 8 | E72: db | F72: 0 | G72: 0 | H72: =(D72*F72) -> 0 | I72: =(D72*G72) -> 0
A74: 30 | B74: K-tétel | C74: MCS- II es csatorna szerelés | D74: 110 | E74: m | F74: 0 | G74: 0 | H74: =(D74*F74) -> 0 | I74: =(D74*G74) -> 0
C76: Horonyvésés kézi erővel téglafalban 8 cm2-ig
A77: 31 | B77: K-tétel | C77: vakolatjavítással | D77: 150 | E77: m | F77: 0 | G77: 0 | H77: =(D77*F77) -> 0 | I77: =(D77*G77) -> 0
A79: 32 | B79: K-tétel | C79: Bontási munkák | D79: 1 | E79: klt | F79: 0 | G79: 0 | H79: =(D79*F79) -> 0 | I79: =(D79*G79) -> 0
A81: 33 | B81: K-tétel | C81: Fő elosztó szerelés FI relével | D81: 2 | E81: db | F81: 0 | G81: 0 | H81: =(D81*F81) -> 0 | I81: =(D81*G81) -> 0
A83: 34 | B83: K-tétel | C83: ÉV jegyzőkönyv és átadási dokumentáció készités | D83: 1 | E83: klt | F83: 0 | G83: 0 | H83: =(D83*F83) -> 0 | I83: =(D83*G83) -> 0
A85: 35 | B85: K-tétel | C85: Raktár elosztó felújitás./ élelmiszer / | D85: 1 | E85: db | F85: 0 | G85: 0 | H85: =(D85*F85) -> 0 | I85: =(D85*G85) -> 0
C87: Munkanem összesen: | H87: =SUM(H4:H85) -> 0 | I87: =SUM(I4:I85) -> 0

Sheet Csoportszobák, folyosók, öltöző
B1: Csoportszobák, folyosók, öltözők festése, mázolása
A2: Ssz. | B2: Tételszám | C2: Tétel szövege | D2: Menny. | E2: Egység | F2: Anyag egységár | G2: Díj egységre | H2: Anyag összesen | I2: Díj összesen
C4: Falsimítás műanyag kötőanyagú készítménnyel, 1,5 mm vastagságig, felülettisztítással, portalanítással, sarkok, élek legömbölyítésével, csiszolással, meszes glettel, vagy azzal egyenértékű,
A5: 1 | B5: 47-151-001-001-34-14110 | C5: vakolt felületen (csak javítás szükség szerint max 20 % felületen) | D5: 1876.5 | E5: m2 | F5: 0 | G5: 0 | H5: =(D5*F5) -> 0 | I5: =(D5*G5) -> 0
C7: Festés műanyagbázisú diszperziós beltéri falfestékkel, két rétegben, a felület megtisztításával, kaparással, dörzsöléssel, lemosással, tapaszolással,
A8: 2 | B8: M-47-141-001-001-13-61120 | C8: vakolt felületen, fehér színben | D8: 1876.5 | E8: m2 | F8: 0 | G8: 0 | H8: =(D8*F8) -> 0 | I8: =(D8*G8) -> 0
C10: Acélfelületek közbenső festése cső és regisztercső felületén (NÁ 80-ig), függesztőn és tartóvason, sormosdó állványzaton műgyanta kötőanyagú, oldószeres festékkel
A11: 3 | B11: 47-021-21.4.1-0130821 | C11: alapozófesték, fehér | D11: 300 | E11: m | F11: 0 | G11: 0 | H11: =(D11*F11) -> 0 | I11: =(D11*G11) -> 0
C13: Acélfelületek átvonó festése cső és regisztercső felületén (NÁ 80-ig), függesztőn és tartóvason, sormosdó állványzaton műgyanta kötőanyagú, oldószeres festékkel
A14: 4 | B14: 47-021-31.4.1-0130431 | C14: selyemfényű zománcfesték, fehér, | D14: 300 | E14: m | F14: 0 | G14: 0 | H14: =(D14*F14) -> 0 | I14: =(D14*G14) -> 0
C16: Acélfelületek közbenső festése fűtőtesten, NÁ 80 feletti csövön műgyanta kötőanyagú, oldószeres festékkel
A17: 5 | B17: 47-021-21.5.1-0137031 | C17: zománcfesték, fehér | D17: 50 | E17: m2 | F17: 0 | G17: 0 | H17: =(D17*F17) -> 0 | I17: =(D17*G17) -> 0
C19: Acélfelületek átvonó festése fűtőtesten, NÁ 80 feletti csövön műgyanta kötőanyagú, oldószeres festékkel
A20: 6 | B20: 47-021-31.5.1-0137031 | C20: zománcfesték, fehér | D20: 50 | E20: m2 | F20: 0 | G20: 0 | H20: =(D20*F20) -> 0 | I20: =(D20*G20) -> 0
C22: Munkanem összesen: | H22: =SUM(H5:H20) -> 0 | I22: =SUM(I5:I20) -> 0

Sheet 2 csoportszobában parkettacsere
B1: 2 csoportszobában parkettacsere
A2: Ssz. | B2: Tételszám | C2: Tétel szövege | D2: Menny. | E2: Egység | F2: Anyag egységár | G2: Díj egységre | H2: Anyag összesen | I2: Díj összesen
C4: Keményfából készült lábazati vagy falvédő deszka bontása
A5: 1 | B5: 42-000-491 | C5: 25 cm szélességig | D5: 50.5 | E5: m | F5: 0 | G5: 0 | H5: =(D5*F5) -> 0 | I5: =(D5*G5) -> 0
C7: Fa-, hézagmentes műanyag- és szőnyegburkolatok bontása,
A8: 2 | B8: 42-000-3.2.2 | C8: csaphornyos vagy mozaikparketta, aljzatbetonra ragasztva | D8: 113.16 | E8: m2 | F8: 0 | G8: 0 | H8: =(D8*F8) -> 0 | I8: =(D8*G8) -> 0
C10: Egyéb bontások, ragasztott padlóburkolat aljzatának portalanítása, a maradék ragasztószer oldószeres eltávolítása,
A11: 3 | B11: 42-000-6.2 | C11: maratása, felkaparása | D11: 113.16 | E11: m2 | F11: 0 | G11: 0 | H11: =(D11*F11) -> 0 | I11: =(D11*G11) -> 0
C13: Padlóburkolat hordozószerkezetének felületelőkészítése beltérben, beton alapfelületen felületelőkészítő alapozó és tapadóhíd felhordása egy rétegben
A14: 4 | B14: 42-011-2.1.1.1-0313841 | C14: vizesdiszperziós alapozó | D14: 113.16 | E14: m2 | F14: 0 | G14: 0 | H14: =(D14*F14) -> 0 | I14: =(D14*G14) -> 0
C16: Padlóburkolat hordozószerkezetének felületelőkészítése beltérben, beton alapfelületen kenhető víz- és páraszigetelés felhordása egy rétegben, hajlaterősítő szalag elhelyezésével folyékony fólia, oldószermentes
A17: 5 | B17: 42-011-2.1.1.2-0216006 | C17: kül-beltéri, csempeburkolat alá vízszigetelésekhez, szürke | D17: 113.16 | E17: m2 | F17: 0 | G17: 0 | H17: =(D17*F17) -> 0 | I17: =(D17*G17) -> 0
C19: Meglévő aljzat kiegyenlítése, ragasztott parketta, valamint rugalmas burkolat alá (nagy igénybevétel) tömör, nem szívó aljzat (pl. kerámia burkolat) felület előkészítése, 3 mm vastagságban önterülő aljzatkiegyenlítő,
A20: 6 | B20: 42-041-3.2.3.1-0313904 | C20: szürke + diszperziós alapozó | D20: 113.16 | E20: m2 | F20: 0 | G20: 0 | H20: =(D20*F20) -> 0 | I20: =(D20*G20) -> 0
C22: Parkettafektetés csaphornyos parkettából, kiegyenlített aljzatra ragasztva, nedvességre kevésbé érzékeny fafajtából, csaphornyos parketta,
A23: 7 | B23: 42-042-4.1.2.2.1-0110701 | C23: 22 mm vtg, tölgy, | D23: 113.16 | E23: m2 | F23: 0 | G23: 0 | H23: =(D23*F23) -> 0 | I23: =(D23*G23) -> 0
C25: Lábazat kialakítása, falábazat (székléc) készítése
A26: 8 | B26: 42-042-31.5.1 | C26: keményfából | D26: 50.5 | E26: m | F26: 0 | G26: 0 | H26: =(D26*F26) -> 0 | I26: =(D26*G26) -> 0
C28: Kisegítő- és részmunkák, parketta csiszolása és lakkozása, nagy igénybevételre,
A29: 9 | B29: 42-042-6.1.2.2-0310125 | C29: vízbázisú lakkal alapozó + vízbázisú parkettalakk, selyem, erős igénybevételhez | D29: 113.16 | E29: m2 | F29: 0 | G29: 0 | H29: =(D29*F29) -> 0 | I29: =(D29*G29) -> 0
C31: Munkanem összesen: | H31: =SUM(H5:H29) -> 0 | I31: =SUM(I5:I29) -> 0

Sheet 4 csoportszobában parketta csis
B1: 4 csoportszobában parketta csiszolása, lakkozása
A2: Ssz. | B2: Tételszám | C2: Tétel szövege | D2: Menny. | E2: Egység | F2: Anyag egységár | G2: Díj egységre | H2: Anyag összesen | I2: Díj összesen
C4: Kisegítő- és részmunkák, parketta csiszolása és lakkozása, nagy igénybevételre,
A5: 1 | B5: 42-042-6.1.2.2-0310125 | C5: vízbázisú lakkal alapozó + vízbázisú parkettalakk, selyem, erős igénybevételhez | D5: 206.4 | E5: m2 | F5: 0 | G5: 0 | H5: =(D5*F5) -> 0 | I5: =(D5*G5) -> 0
C7: Munkanem összesen: | H7: =H5 -> 0 | I7: =I5 -> 0

Sheet Új kerítés készítése
B1: Új kerítés készítése
A2: Ssz. | B2: Tételszám | C2: Tétel szövege | D2: Menny. | E2: Egység | F2: Anyag egységár | G2: Díj egységre | H2: Anyag összesen | I2: Díj összesen
A4: 1 | B4: K-tétel | C4: Munkaterület ideiglenes lehatárolása, az építési munkák idejére | D4: 400 | E4: m | F4: 0 | G4: 0 | H4: =(D4*F4) -> 0 | I4: =(D4*G4) -> 0
C6: Rácsok, korlátok, kerítések bontása,
A7: 2 | B7: 45-000-2.6 | C7: drótfonatos kerítés oszlopokkal | D7: 194.45 | E7: m | F7: 0 | G7: 0 | H7: =(D7*F7) -> 0 | I7: =(D7*G7) -> 0
C9: Fém nyílászáró szerkezetek bontása, ajtó, ablak, kapu,
A10: 3 | B10: 45-000-1.1.2 | C10: 1,01-2,00 m2 felület között | D10: 1 | E10: db | F10: 0 | G10: 0 | H10: =(D10*F10) -> 0 | I10: =(D10*G10) -> 0
C12: Fém nyílászáró szerkezetek bontása, ajtó, ablak, kapu,
A13: 4 | B13: 45-000-1.1.3 | C13: 2,01 m2 felület felett | D13: 3 | E13: db | F13: 0 | G13: 0 | H13: =(D13*F13) -> 0 | I13: =(D13*G13) -> 0
A15: 5 | B15: 45-000-2.1 | C15: Rácsok, korlátok, kerítések bontása, idomacél rács | D15: 166.5 | E15: m | F15: 0 | G15: 0 | H15: =(D15*F15) -> 0 | I15: =(D15*G15) -> 0
C17: Építési törmelék konténeres elszállítása, lerakása, lerakóhelyi díjjal,
A18: 6 | B18: 21-011-11.3 | C18: 5,0 m3-es konténerbe | D18: 7 | E18: db | F18: 0 | G18: 0 | H18: =(D18*F18) -> 0 | I18: =(D18*G18) -> 0
C20: Utcai kerítés építése az alábbi műszaki tartalommal: meglévő beton lábazat felújítása-javítása szükség szerint rabicolással, a mezők max. 2,50 m-enként elhelyezett feljavított oszloppal, lábazati fal kívül-belül festett felülettel, max. 1,2 m magas,
A21: 7 | B21: K-tétel | C21: AXIS D táblás acél betétekkel, gyári festett felületkezeléssel | D21: 100 | E21: m | F21: 0 | G21: 0 | H21: =(D21*F21) -> 0 | I21: =(D21*G21) -> 0
C23: Utcai kerítés építése az alábbi műszaki tartalommal: új beton alap és lábazat 30*80 cm-es sávalappal, ZS 20 zsalukő lábazattal 50 cm magasságban, a mezők max. 2,50 m-enként elhelyezett zártszelvény oszloppal, lábazati fal kívül-belül festett felülettel, max. 1,2 m magas,
A24: 8 | B24: K-tétel | C24: AXIS D táblás acél betétekkel, gyári festett felületkezeléssel | D24: 28 | E24: m | F24: 0 | G24: 0 | H24: =(D24*F24) -> 0 | I24: =(D24*G24) -> 0
C26: Utcai-oldalsó kerítés építése az alábbi műszaki tartalommal: meglévő jó állapotú beton lábazat vakolása, a mezők max. 2,50 m-enként elhelyezett feljavított oszloppal, lábazati fal kívül-belül festett felülettel, max. 1,2 m magas,
A27: 9 | B27: K-tétel | C27: AXIS D táblás acél betétekkel, gyári festett felületkezeléssel | D27: 74.3 | E27: m | F27: 0 | G27: 0 | H27: =(D27*F27) -> 0 | I27: =(D27*G27) -> 0
C29: Hátsó kerítés szakasz építése az alábbi műszaki tartalommal: acél zártszelvény oszlopok 3 m-enként bebetonozva, közötte előregyártott kerti betonszegély lábazat süllyesztve, 1,50 m magas horganyzott acél drótfonattal,
A30: 10 | B30: K-tétel | C30: 1 sor tüskéshuzallal | D30: 174.2 | E30: m | F30: 0 | G30: 0 | H30: =(D30*F30) -> 0 | I30: =(D30*G30) -> 0
C32: Kerítéskapu elhelyezése kerítésmezőkkel azonos kivitelben, felületkezeléssel, rögzítéssel
A33: 11 | B33: K-tétel | C33: egyszárnyú kiskapu | D33: 2 | E33: db | F33: 0 | G33: 0 | H33: =(D33*F33) -> 0 | I33: =(D33*G33) -> 0
C35: Kerítéskapu elhelyezése kerítésmezőkkel azonos kivitelben, felületkezeléssel, rögzítéssel
A36: 12 | B36: K-tétel | C36: kétszárnyú nagykapu 4-5 m kapuszélességig | D36: 2 | E36: db | F36: 0 | G36: 0 | H36: =(D36*F36) -> 0 | I36: =(D36*G36) -> 0
A38: 13 | B38: K-tétel | C38: Egyik kétszárnyú kapu motorizálása | D38: 1 | E38: db | F38: 0 | G38: 0 | H38: =(D38*F38) -> 0 | I38: =(D38*G38) -> 0
A40: 14 | B40: K-tétel | C40: Egyik kiskapura elektromoms zár telepítése, kaputelefonnal együtt kiépítve | D40: 1 | E40: klt | F40: 0 | G40: 0 | H40: =(D40*F40) -> 0 | I40: =(D40*G40) -> 0
C42: Munkanem összesen: | H42: =SUM(H4:H40) -> 0 | I42: =SUM(I4:I40) -> 0

Sheet Udvari teraszok burkolása
B1: Udvari teraszok burkolása
A2: Ssz. | B2: Tételszám | C2: Tétel szövege | D2: Menny. | E2: Egység | F2: Anyag egységár | G2: Díj egységre | H2: Anyag összesen | I2: Díj összesen
C4: Műkő burkolatok bontása, műkő fal-, pillér- és oszlopburkolat,
A5: 1 | B5: 42-000-4.2.2 | C5: előregyártott műkőből, 1,5 m2 feletti elemekből | D5: 15 | E5: m2 | F5: 0 | G5: 0 | H5: =(D5*F5) -> 0 | I5: =(D5*G5) -> 0
C7: Műkő burkolatok bontása, műkő fal-, pillér- és oszlopburkolat,
A8: 2 | B8: 42-000-4.3 | C8: műkő lábazat, 50 cm magasságig | D8: 35 | E8: m | F8: 0 | G8: 0 | H8: =(D8*F8) -> 0 | I8: =(D8*G8) -> 0
C10: Vakolat leverése oldalfalról vagy mennyezetről 1,5 cm vastagságig
A11: 3 | B11: 36-000-1.4 | C11: lábazati cementvakolat 5 cm vastagságig | D11: 25 | E11: m2 | F11: 0 | G11: 0 | H11: =(D11*F11) -> 0 | I11: =(D11*G11) -> 0
C13: Építési törmelék konténeres elszállítása, lerakása, lerakóhelyi díjjal,
A14: 4 | B14: 21-011-11.3 | C14: 5,0 m3-es konténerbe lábazati alapvakolat | D14: 2 | E14: db | F14: 0 | G14: 0 | H14: =(D14*F14) -> 0 | I14: =(D14*G14) -> 0
A16: 5 | B16: 36-007-9.1.1-0415939 | C16: Lábazati vakolatok; lábazati alapvakolat felhordása kézi erővel, 2 cm vastagságban, lábazati alapvakolat | D16: 26.85 | E16: m2 | F16: 0 | G16: 0 | H16: =(D16*F16) -> 0 | I16: =(D16*G16) -> 0
C18: Szellőző, falszárító felújító vakolat készítése, alacsony és közepes só és nedvességtartalom esetén, kézi felhordással, szárazhabarcsból,
A19: 6 | B19: 36-012-2.1.1.2-0415952 | C19: 3 cm vastagságban | D19: 42 | E19: m2 | F19: 0 | G19: 0 | H19: =(D19*F19) -> 0 | I19: =(D19*G19) -> 0
C21: Lábazati felületek festése páraáteresztő lábazatfestékkel
A22: 7 | B22: K-tétel | C22: választott színben | D22: 66.85 | E22: m2 | F22: 0 | G22: 0 | H22: =(D22*F22) -> 0 | I22: =(D22*G22) -> 0
C24: Padlóburkolat hordozószerkezetének felületelőkészítése kültérben, hőterhelt felületen beton alapfelületen önterülő felületkiegyenlítés készítése 3,0 mm
A25: 8 | B25: 42-011-2.2.1.4.1-0313033 | C25: átlagos rétegvastagságban kültéri, önterülő, aljzatkiegyenlítő simítóhabarcs | D25: 85.8 | E25: m2 | F25: 0 | G25: 0 | H25: =(D25*F25) -> 0 | I25: =(D25*G25) -> 0
C27: Padlóburkolat hordozószerkezetének felületelőkészítése kültérben, hőterhelt felületen beton alapfelületen önterülő felületkiegyenlítés készítése 5 mm
A28: 9 | B28: 42-011-2.2.1.4.1-0313032 | C28: átlagos rétegvastagságban önterülő aljzatkiegyenlítő | D28: 56.45 | E28: m2 | F28: 0 | G28: 0 | H28: =(D28*F28) -> 0 | I28: =(D28*G28) -> 0
C30: Padlóburkolat hordozószerkezetének felületelőkészítése kültérben, hőterhelt felületen beton alapfelületen felületelőkészítő alapozó és tapadóhíd felhordása egy rétegben
A31: 10 | B31: 42-011-2.2.1.1-0151721 | C31: alapozó | D31: 142.25 | E31: m2 | F31: 0 | G31: 0 | H31: =(D31*F31) -> 0 | I31: =(D31*G31) -> 0
C33: Padlóburkolat készítése, kültérben, hőterhelt felületen, tégla, beton, vakolt alapfelületen, gres, kőporcelán lappal, kötésben vagy hálósan, 3-5 mm vtg. ragasztóba rakva, 1-10 mm fugaszélességgel, 20x20 - 40x40 cm közötti lapmérettel
A34: 11 | B34: 42-022-1.2.1.2.1.1-0212004 | C34: Flex ragasztó, kül- és beltérbe, fagyálló, padlófűtéshez is, flex fugázó, fehér, | D34: 142.25 | E34: m2 | F34: 0 | G34: 0 | H34: =(D34*F34) -> 0 | I34: =(D34*G34) -> 0
C36: Lábazatburkolat készítése, kültérben, gres, kőporcelán lappal, egyenes, egysoros kivitelben, 3-5 mm ragasztóba rakva, 1-10 mm fugaszélességgel, 10 cm magasságig, 20x20 - 40×40 cm közötti lapmérettel
A37: 12 | B37: 42-022-2.2.2.1.1-0212004 | C37: FLEX/Flex ragasztó, kül- és beltérbe, flex fugázó, fehér, | D37: 83.25 | E37: m | F37: 0 | G37: 0 | H37: =(D37*F37) -> 0 | I37: =(D37*G37) -> 0
C39: Lépcsőburkolat készítése, kültérben, 3-10 mm ragasztóba rakva, 1-20 mm fugaszélességgel, járólap 35 cm szélességig, 3 cm lapvastagságig, (élvédelem nélkül) gres, kőporcelán lappal, 20x20 - 40×40 cm közötti lapmérettel
A40: 13 | B40: 42-022-3.2.1.1.2.1-0212004 | C40: FLEX/Flex ragasztó, kül- és beltérbe, fagyálló, flex fugázó fehér, | D40: 11 | E40: m | F40: 0 | G40: 0 | H40: =(D40*F40) -> 0 | I40: =(D40*G40) -> 0
C42: Lépcsőburkolat készítése, kültérben, 3-10 mm ragasztóba rakva, 1-20 mm fugaszélességgel, homloklap, tagozat nélkül, gres, kőporcelán lappal, 20x20 - 40×40 cm közötti lapmérettel
A43: 14 | B43: 42-022-3.2.1.2.2.1-0212004 | C43: FLEX/Flex ragasztó, kül- és beltérbe, fagyálló, flex fugázó, fehér, | D43: 16.5 | E43: m | F43: 0 | G43: 0 | H43: =(D43*F43) -> 0 | I43: =(D43*G43) -> 0
C45: Lábazatburkolat készítése, kültérben, gres, kőporcelán lappal, lépcsős kivitelben, ragasztva, 3-5 mm ragasztóba rakva, 1-10 mm fugaszélességgel, 20 cm magasságig, 20x20 - 40×40 cm közötti lapmérettel
A46: 15 | B46: 42-022-2.2.2.2.1-0212004 | C46: FLEX/Flex ragasztó, flex fugázó, fehér | D46: 4.5 | E46: m | F46: 0 | G46: 0 | H46: =(D46*F46) -> 0 | I46: =(D46*G46) -> 0
C48: Munkanem összesen: | H48: =SUM(H5:H46) -> 0 | I48: =SUM(I5:I46) -> 0

Sheet Új terasz lefedések készítése
B1: Új terasz lefedések készítése
A2: Ssz. | B2: Tételszám | C2: Tétel szövege | D2: Menny. | E2: Egység | F2: Anyag egységár | G2: Díj egységre | H2: Anyag összesen | I2: Díj összesen
A4: 1 | B4: 41-000-2 | C4: Hullámlemez fedés bontása (pala, fém, műanyag) | D4: 103.4 | E4: m2 | F4: 0 | G4: 0 | H4: =(D4*F4) -> 0 | I4: =(D4*G4) -> 0
C6: Épület acélvázszerkezet,
A7: 2 | B7: 34-000-1.3 | C7: acél tetőszerkezet bontása vagy átalakítása rácsos vagy tömör szaruzattal, 40 kg/m2 tömegig, fa tartószerkezet fogadására | D7: 103.4 | E7: m2 | F7: 0 | G7: 0 | H7: =(D7*F7) -> 0 | I7: =(D7*G7) -> 0
C9: Szelemen vonalában meglévő acél tartók vonalában felfekvés kialakítása
A10: 3 | B10: K-tétel | C10: hőszigetelés előtt | D10: 28.35 | E10: m | F10: 0 | G10: 0 | H10: =(D10*F10) -> 0 | I10: =(D10*G10) -> 0
C12: Építési törmelék konténeres elszállítása, lerakása, lerakóhelyi díjjal,
A13: 4 | B13: 21-011-11.3 | C13: 5,0 m3-es konténerbe | D13: 3 | E13: db | F13: 0 | G13: 0 | H13: =(D13*F13) -> 0 | I13: =(D13*G13) -> 0
C15: Fa tetőszerkezetek bármely rendszerben ácsszerkezeti elemekből, 0,036-0,040 m3/m2 bedolgozott famennyiség között
A16: 5 | B16: 35-001-1.6-0680041 | C16: gyalult fűrészelt fa- és kiegészítő acélszerkezetből | D16: 107.5 | E16: m2 | F16: 0 | G16: 0 | H16: =(D16*F16) -> 0 | I16: =(D16*G16) -> 0
C18: Pergola- és előtetők fedése áttetsző, 10 mm vastag, 1 cellás, víztiszta polikarbonát lemezzel, a szükséges toldó-, záró- és tömítő profilokkal együtt
A19: 6 | B19: K-tétel | C19: faszerkezethez rögzítve | D19: 107.5 | E19: m2 | F19: 0 | G19: 0 | H19: =(D19*F19) -> 0 | I19: =(D19*G19) -> 0
C21: Függő ereszcsatorna szerelése, csatornatartó felszerelésével, betorkolócső, véglemez, szeglet, tágulási hézag és vízvető beépítésével, 0.55 mm vastag horganyzott acéllemezből félkör szelvényű
A22: 7 | B22: 43-210-001-012-15-11110 | C22: 25 cm kiterített szélességgel | D22: 28.35 | E22: m | F22: 0 | G22: 0 | H22: =(D22*F22) -> 0 | I22: =(D22*G22) -> 0
C24: Lefolyócső szerelése, csőbilincs elhelyezésével, hattyúnyak, kifolyókönyök beépítésével, állványcsőbe való bekötéssel, csőkarika elhelyezéssel, 0.55 mm vastag horganyzott acéllemezből, kör szelvényű
A25: 8 | B25: 43-230-001-012-15-15110 | C25: 25 cm kiterített szélességgel | D25: 12 | E25: m | F25: 0 | G25: 0 | H25: =(D25*F25) -> 0 | I25: =(D25*G25) -> 0
C27: Külső fafelületek lazúrozása, akrilátlatex bázisú, vízzel hígítható páccal, tagolt
A28: 9 | B28: 47-031-3.12.1.2-0418751 | C28: felületen falazúr | D28: 182 | E28: m2 | F28: 0 | G28: 0 | H28: =(D28*F28) -> 0 | I28: =(D28*G28) -> 0
C30: Munkanem összesen: | H30: =SUM(H4:H28) -> 0 | I30: =SUM(I4:I28) -> 0

Sheet Régi medence gyermekmedencévé a
B1: Régi medence gyermekmedencévé alakítása
A2: Ssz. | B2: Tételszám | C2: Tétel szövege | D2: Menny. | E2: Egység | F2: Anyag egységár | G2: Díj egységre | H2: Anyag összesen | I2: Díj összesen
C4: Műszaki tartalom: Medence belmérete 9,0x3,6 m, gyermekmedence esetén max. 16 fő egyidejű fürdőzésére alkalmas, szükséges forgatási teljesítmény 32 m3/h. Forgatási teljesítmény 2db D800 mm-es szűrőtartállyal biztosítható. Gépház igény: 3,6x3,0m belmérettel, belmagasság 2,0m Puffer tározó: 3,0x1,0m belmérettel, belmagasság 2,0m Gépház puffer tározó egybe építve 25cm-es falszerkezettel külméret 5,3x3,5m. Hálózati víz csatlakozás: 1 elzáró szerelvénnyel Szennycsatorna: D110 Elektromos energia igény: 3,5kW, 400V ______________________________________________________ Vízgépészeti kivitelezési munkák az érvényben lévő szabványoknak, és ÁNTSZ
A5: 1 | B5: K-tétel | C5: előírásoknak megfelelő kialakítással | D5: 1 | E5: klt | F5: 0 | G5: 0 | H5: =(D5*F5) -> 0 | I5: =(D5*G5) -> 0
C7: Vízgépészeti vezérlő elektromosság
A8: 2 | B8: K-tétel | C8: (vezérlőszekrény, kábelezés, bekötés, ÉV mérés) kompletten | D8: 1 | E8: klt | F8: 0 | G8: 0 | H8: =(D8*F8) -> 0 | I8: =(D8*G8) -> 0
C10: Medence burkolása uszodai kerámia csempével, lapméret 12,5x25 cm világoskék színben, szerkezet 1 cm-es kiegyenlítéssel, vízszigeteléssel, segédanyagokkal kompletten. Medence alja, lépcső, medence perem, illetve
A11: 3 | B11: K-tétel | C11: teljes lábmosó csúszásmentes burkolattal | D11: 1 | E11: klt | F11: 0 | G11: 0 | H11: =(D11*F11) -> 0 | I11: =(D11*G11) -> 0
C13: Medence számára 3,6x3,0 m belméretű, 2,0 m belmagasságú gépház és 3,0x1,0 m belméretű, 2,0 m belmagasságú puffer tározó kialakítása a szükséges föld- és szerkezetépítési munkákkal. Víz-, szennyvíz és elektromos csatlakozási pontok kiépítésével. Meglévő medencetest átalakítási munkái,
A14: 4 | B14: K-tétel | C14: áttörések, stb. | D14: 1 | E14: klt | F14: 0 | G14: 0 | H14: =(D14*F14) -> 0 | I14: =(D14*G14) -> 0
C16: Medencegépészet elektromos ellátása
A17: 5 | B17: K-tétel | C17: meglévő rendszerről | D17: 1 | E17: db | F17: 0 | G17: 0 | H17: =(D17*F17) -> 0 | I17: =(D17*G17) -> 0
C19: Munkanem összesen: | H19: =SUM(H5:H17) -> 0 | I19: =SUM(I5:I17) -> 0

Sheet (1.) Akadálymentesítés
B1: Akadálymentesítés
A2: Ssz. | B2: Tételszám | C2: Tétel szövege | D2: Menny. | E2: Egység | F2: Anyag egységár | G2: Díj egységre | H2: Anyag összesen | I2: Díj összesen
A4: 1 | B4: K-tétel | C4: Épület akadálymentesítése, Akadálymentesítési dokumentációban leírtak alapján | D4: 1 | E4: klt | F4: 0 | G4: 0 | H4: =(D4*F4) -> 0 | I4: =(D4*G4) -> 0
C6: Munkanem összesen: | H6: =H4 -> 0 | I6: =I4 -> 0

Sheet Napkollektor felszerelése
B1: Napkollektor felszerelése
A2: Ssz. | B2: Tételszám | C2: Tétel szövege | D2: Menny. | E2: Egység | F2: Anyag egységár | G2: Díj egységre | H2: Anyag összesen | I2: Díj összesen
A4: 1 | B4: K-tétel | C4: Napkollektoros rendszer telepítése használati melegvíz ellátás rásegítésére, gépészeti elemekkel együtt | D4: 1 | E4: klt | F4: 0 | G4: 0 | H4: =(D4*F4) -> 0 | I4: =(D4*G4) -> 0
C6: Munkanem összesen: | H6: =H4 -> 0 | I6: =I4 -> 0

Sheet Konyha építészeti, gépészeti, l
B1: Konyha építészeti, gépészeti, légtechnikai munkái
A2: Ssz. | B2: Tételszám | C2: Tétel szövege | D2: Menny. | E2: Egység | F2: Anyag egységár | G2: Díj egységre | H2: Anyag összesen | I2: Díj összesen
C4: ÉPÍTÉSZETI MUNKÁK ____________________________________________________________
A5: 1 | B5: K-tétel | C5: Konyha padozati burkolat csere csúszásmentes kerámia lap, 50m2 | D5: 1 | E5: klt | F5: 0 | G5: 0 | H5: =(D5*F5) -> 0 | I5: =(D5*G5) -> 0
A7: 2 | B7: K-tétel | C7: Konyha festési munkái | D7: 1 | E7: klt | F7: 0 | G7: 0 | H7: =(D7*F7) -> 0 | I7: =(D7*G7) -> 0
C9: GÉPÉSZETI MUNKÁK ____________________________________________________________
A10: 3 | B10: K-tétel | C10: Gázhálózat átépítés anyaga, csövek, könyökök, bilincsek, mágnes szelep, | D10: 1 | E10: klt | F10: 0 | G10: 0 | H10: =(D10*F10) -> 0 | I10: =(D10*G10) -> 0
A12: 4 | B12: K-tétel | C12: Lágy víz hálózat kiépítés anyaga, , csövek, idomok, | D12: 1 | E12: klt | F12: 0 | G12: 0 | H12: =(D12*F12) -> 0 | I12: =(D12*G12) -> 0
A14: 5 | B14: K-tétel | C14: Vízhálózat, csatorna hálózat átépítés anyag, csövek, idomok, rögzítő elemek, | D14: 1 | E14: klt | F14: 0 | G14: 0 | H14: =(D14*F14) -> 0 | I14: =(D14*G14) -> 0
A16: 6 | B16: K-tétel | C16: Gáz tervezés, engedélyeztetés | D16: 1 | E16: klt | F16: 0 | G16: 0 | H16: =(D16*F16) -> 0 | I16: =(D16*G16) -> 0
C18: LÉGTECHNIKA ____________________________________________________________
A19: 7 | B19: K-tétel | C19: Elszívó egység, légszállítási képesség 1300m3/h (csak anyag ár, beüzemelés külön tételben szerepel) | D19: 1 | E19: klt | F19: 0 | G19: 0 | H19: =(D19*F19) -> 0 | I19: =(D19*G19) -> 0
A21: 8 | B21: K-tétel | C21: Befúvó egység, hőcserélőn keresztül (csak anyag ár, beüzemelés külön tételben szerepel) | D21: 1 | E21: klt | F21: 0 | G21: 0 | H21: =(D21*F21) -> 0 | I21: =(D21*G21) -> 0
A23: 9 | B23: K-tétel | C23: Légtechnikai csövezés, csatornák idomok, függesztő elemek, horganyzott kivitel (csak anyag ár, beüzemelés külön tételben szerepel) | D23: 1 | E23: klt | F23: 0 | G23: 0 | H23: =(D23*F23) -> 0 | I23: =(D23*G23) -> 0
A25: 10 | B25: K-tétel | C25: Légtechnikai csövezés, csatornák idomok, függesztő elemek horganyzott kivitel (csak anyag ár, beüzemelés külön tételben szerepel) | D25: 1 | E25: klt | F25: 0 | G25: 0 | H25: =(D25*F25) -> 0 | I25: =(D25*G25) -> 0
A27: 11 | B27: K-tétel | C27: Légtechnikai gépészeti szerelés, beüzemelés | D27: 1 | E27: klt | F27: 0 | G27: 0 | H27: =(D27*F27) -> 0 | I27: =(D27*G27) -> 0
A29: 12 | B29: K-tétel | C29: Automatika szerelvényezés | D29: 1 | E29: klt | F29: 0 | G29: 0 | H29: =(D29*F29) -> 0 | I29: =(D29*G29) -> 0
A31: 13 | B31: K-tétel | C31: Elektrotechnikai munkák | D31: 1 | E31: klt | F31: 0 | G31: 0 | H31: =(D31*F31) -> 0 | I31: =(D31*G31) -> 0
C33: Munkanem összesen: | H33: =SUM(H5:H31) -> 0 | I33: =SUM(I5:I31) -> 0

Sheet Konyhatechnológiai berendezések
B1: Konyhatechnológiai berendezések
A2: Ssz. | B2: Tételszám | C2: Tétel szövege | D2: Menny. | E2: Egység | F2: Anyag egységár | G2: Díj egységre | H2: Anyag összesen | I2: Díj összesen
C4: MA-752 Típus számú
A5: 1 | B5: K-tétel | C5: Egyetemes konyhagép, 2 sebességes alapgép, Gördíthető állvány Húsdaráló segédgép Habverő és dagasztó segédgép Burgonyapüré adapter 6 késes szeletelő tárcsa (csak anyag ár, beüzemelés külön tételben szerepel) | D5: 1 | E5: db | F5: 0 | G5: 0 | H5: =(D5*F5) -> 0 | I5: =(D5*G5) -> 0
C7: GT4.98SE Típus számú
A8: 2 | B8: K-tétel | C8: 4 Égős gáztűzhely, Teljesítmény: 13,6 kW Méret:: 900x900x900mm (csak anyag ár, beüzemelés külön tételben szerepel) | D8: 1 | E8: db | F8: 0 | G8: 0 | H8: =(D8*F8) -> 0 | I8: =(D8*G8) -> 0
C10: Omniwash típusú
A11: 3 | B11: K-tétel | C11: Nagykonyhai mosogatógép Ciklusidő: 1,5-3 perc 2 programban, bevezető előmosó asztallal, Tartozékok: 1db tányérkosár,1db pohárkosár, 1db evőeszköz kosár, Teljesítmény: 9600W (csak anyag ár, beüzemelés külön tételben szerepel) | D11: 1 | E11: db | F11: 0 | G11: 0 | H11: =(D11*F11) -> 0 | I11: =(D11*G11) -> 0
C13: BWT15 Típus számú
A14: 4 | B14: K-tétel | C14: BWT Aquadial vízlágyító 15 Lt + Multiblok (csak anyag ár, beüzemelés külön tételben szerepel) | D14: 1 | E14: db | F14: 0 | G14: 0 | H14: =(D14*F14) -> 0 | I14: =(D14*G14) -> 0
C16: EF3013 Típus számú
A17: 5 | B17: K-tétel | C17: Rozsdamentes kivitelű elszívó ernyő Méret: 3000x1300x350 (csak anyag ár, beüzemelés külön tételben szerepel) | D17: 1 | E17: db | F17: 0 | G17: 0 | H17: =(D17*F17) -> 0 | I17: =(D17*G17) -> 0
C19: EF1511 Típus számú
A20: 6 | B20: K-tétel | C20: Rozsdamentes kivitelű elszívó ernyő, világítással Méret: 1500x1100x350 (csak anyag ár, beüzemelés külön tételben szerepel) | D20: 1 | E20: db | F20: 0 | G20: 0 | H20: =(D20*F20) -> 0 | I20: =(D20*G20) -> 0
C22: PFO 40/50 Típus számú
A23: 7 | B23: K-tétel | C23: Rozsdamentes kivitelű ipari padlóösszefolyó Méret: 500x400x250mm (csak anyag ár, beüzemelés külön tételben szerepel) | D23: 2 | E23: db | F23: 0 | G23: 0 | H23: =(D23*F23) -> 0 | I23: =(D23*G23) -> 0
C25: GLF 151 Típus számú
A26: 8 | B26: K-tétel | C26: Gázüst, kerek csésze, szögletes üstház, indirekt fűtéssel, kettős biztonsági rendszerrel, vízfeltöltő csappal, hidegvíz csatlakozóval, köpeny feltöltés lágy vízzel, Gázégő piezzo gyújtással Teljesítmény: 19 kW Elektromos csatlakozás: 230V Kapacitás: 150 Liter Méret: 900x900x900 2" ételcsap Forgógombos folyamatos fűtésszabályozás Magas ötvözetű csésze (csak anyag ár, beüzemelés külön tételben szerepel) | D26: 2 | E26: db | F26: 0 | G26: 0 | H26: =(D26*F26) -> 0 | I26: =(D26*G26) -> 0
A28: 9 | B28: K-tétel | C28: Gépek elhelyezése, beüzemelése | D28: 1 | E28: klt | F28: 0 | G28: 0 | H28: =(D28*F28) -> 0 | I28: =(D28*G28) -> 0
C30: Munkanem összesen: | H30: =SUM(H5:H28) -> 0 | I30: =SUM(I5:I28) -> 0

Sheet Konyha villanyszerelési munkái
B1: Konyha villanyszerelési munkái
A2: Ssz. | B2: Tételszám | C2: Tétel szövege | D2: Menny. | E2: Egység | F2: Anyag egységár | G2: Díj egységre | H2: Anyag összesen | I2: Díj összesen
A4: 1 | B4: K-tétel | C4: Gyengeáramú kábelezés, villanyszerelés | D4: 1 | E4: klt | F4: 0 | G4: 0 | H4: =(D4*F4) -> 0 | I4: =(D4*G4) -> 0
A6: 2 | B6: K-tétel | C6: Erősáramú kábelezés | D6: 1 | E6: klt | F6: 0 | G6: 0 | H6: =(D6*F6) -> 0 | I6: =(D6*G6) -> 0
C8: Munkanem összesen: | H8: =SUM(H4:H6) -> 0 | I8: =SUM(I4:I6) -> 0

Sheet Konyha hálózatfejlesztési költs
B1: Konyha hálózatfejlesztési költsége mérőszekrénnyel
A2: Ssz. | B2: Tételszám | C2: Tétel szövege | D2: Menny. | E2: Egység | F2: Anyag egységár | G2: Díj egységre | H2: Anyag összesen | I2: Díj összesen
A4: 1 | B4: K-tétel | C4: Konyha felújításához tartozó hálózatfejlesztési díj költsége, mérőszekrénnyel | D4: 1 | E4: klt | F4: 0 | G4: 0 | H4: =(D4*F4) -> 0 | I4: =(D4*G4) -> 0
C6: Munkanem összesen: | H6: =H4 -> 0 | I6: =I4 -> 0

Sheet Konyhai hidegvíz mérés különvál
B1: Konyhai hidegvíz mérés különválasztása
A2: Ssz. | B2: Tételszám | C2: Tétel szövege | D2: Menny. | E2: Egység | F2: Anyag egységár | G2: Díj egységre | H2: Anyag összesen | I2: Díj összesen
A4: 1 | B4: K-tétel | C4: Konyhai hidegvíz mérés különválasztása, a szükséges gépészeti munkák elvégzésével | D4: 1 | E4: klt | F4: 0 | G4: 0 | H4: =(D4*F4) -> 0 | I4: =(D4*G4) -> 0
C6: Munkanem összesen: | H6: =H4 -> 0 | I6: =I4 -> 0
